BEGIN:VCALENDAR
VERSION:2.0
PRODID:-//Surrey Food Bank - ECPv6.15.20//NONSGML v1.0//EN
CALSCALE:GREGORIAN
METHOD:PUBLISH
X-WR-CALNAME:Surrey Food Bank
X-ORIGINAL-URL:https://surreyfoodbank.org
X-WR-CALDESC:Events for Surrey Food Bank
REFRESH-INTERVAL;VALUE=DURATION:PT1H
X-Robots-Tag:noindex
X-PUBLISHED-TTL:PT1H
BEGIN:VTIMEZONE
TZID:America/Vancouver
BEGIN:DAYLIGHT
TZOFFSETFROM:-0800
TZOFFSETTO:-0700
TZNAME:PDT
DTSTART:20270314T100000
END:DAYLIGHT
BEGIN:STANDARD
TZOFFSETFROM:-0700
TZOFFSETTO:-0800
TZNAME:PST
DTSTART:20271107T090000
END:STANDARD
BEGIN:DAYLIGHT
TZOFFSETFROM:-0800
TZOFFSETTO:-0700
TZNAME:PDT
DTSTART:20280312T100000
END:DAYLIGHT
BEGIN:STANDARD
TZOFFSETFROM:-0700
TZOFFSETTO:-0800
TZNAME:PST
DTSTART:20281105T090000
END:STANDARD
BEGIN:DAYLIGHT
TZOFFSETFROM:-0800
TZOFFSETTO:-0700
TZNAME:PDT
DTSTART:20290311T100000
END:DAYLIGHT
BEGIN:STANDARD
TZOFFSETFROM:-0700
TZOFFSETTO:-0800
TZNAME:PST
DTSTART:20291104T090000
END:STANDARD
END:VTIMEZONE
BEGIN:VEVENT
DTSTART;TZID=America/Vancouver:20280531T100000
DTEND;TZID=America/Vancouver:20280531T123000
DTSTAMP:20260423T072749
CREATED:20260206T235159Z
LAST-MODIFIED:20260207T000202Z
UID:10259310-1843380000-1843389000@surreyfoodbank.org
SUMMARY:Guildford - Depot
DESCRIPTION:The Surrey Food Bank distributes food in Guildford/Whalley every 2nd Wednesday from 10:00 AM to 12:00 PM at Cedar Grove Baptist Church.Location10330 144 St\, Surrey
URL:https://surreyfoodbank.org/event/guildford-depot/2028-05-31/
END:VEVENT
BEGIN:VEVENT
DTSTART;TZID=America/Vancouver:20280606T100000
DTEND;TZID=America/Vancouver:20280606T120000
DTSTAMP:20260423T072749
CREATED:20260129T000359Z
LAST-MODIFIED:20260130T050439Z
UID:10258788-1843898400-1843905600@surreyfoodbank.org
SUMMARY:North Delta - Depot
DESCRIPTION:The Surrey Food Bank distributes food in North Delta every 2nd Tuesday from 10:00 AM – 12:00 PM at the Northside Community Church. \n\n\n\nLocation\n11300 84 Avenue\, Delta
URL:https://surreyfoodbank.org/event/north-delta/2028-06-06/
END:VEVENT
BEGIN:VEVENT
DTSTART;TZID=America/Vancouver:20280607T090000
DTEND;TZID=America/Vancouver:20280607T130000
DTSTAMP:20260423T072749
CREATED:20260207T000058Z
LAST-MODIFIED:20260209T213113Z
UID:10259633-1843981200-1843995600@surreyfoodbank.org
SUMMARY:Tiny Bundles
DESCRIPTION:Wednesdays are reserved for our Tiny Bundles program\, which is specifically designed for pregnant mothers and families with babies from newborn to one year old (12 months). Pregnancy and a baby’s first year are critically important for healthy development. Proper nutrition and support help lay a strong foundation for the rest of their lives.
URL:https://surreyfoodbank.org/event/tiny-bundles/2028-06-07/
END:VEVENT
BEGIN:VEVENT
DTSTART;TZID=America/Vancouver:20280612T090000
DTEND;TZID=America/Vancouver:20280612T130000
DTSTAMP:20260423T072749
CREATED:20260206T235906Z
LAST-MODIFIED:20260210T131927Z
UID:10259442-1844413200-1844427600@surreyfoodbank.org
SUMMARY:Seniors Day
DESCRIPTION:Seniors ages 65+ have a dedicated distribution time to collect their food in a respectful and non-rushed environment. We offer a suitable choice of nutritious foods\, such as high-protein and low-sodium options\, to encourage the best possible nutrition.Seniors are welcome on alternate Mondays from 9:00 AM to 1:00 PM.
URL:https://surreyfoodbank.org/event/seniors-day/2028-06-12/
END:VEVENT
BEGIN:VEVENT
DTSTART;TZID=America/Vancouver:20280613T100000
DTEND;TZID=America/Vancouver:20280613T120000
DTSTAMP:20260423T072749
CREATED:20260206T231611Z
LAST-MODIFIED:20260210T130444Z
UID:10259180-1844503200-1844510400@surreyfoodbank.org
SUMMARY:Cloverdale - Depot
DESCRIPTION:The Surrey Food Bank distributes food in Cloverdale every second Tuesday from 10:00 AM to 12:00 PM at Hillside Church. \n\n\n\nLocation \n\n\n\n5950 179 Street\, Surrey
URL:https://surreyfoodbank.org/event/cloverdale-depot/2028-06-13/
END:VEVENT
BEGIN:VEVENT
DTSTART;TZID=America/Vancouver:20280614T090000
DTEND;TZID=America/Vancouver:20280614T130000
DTSTAMP:20260423T072749
CREATED:20260207T000058Z
LAST-MODIFIED:20260209T213113Z
UID:10259634-1844586000-1844600400@surreyfoodbank.org
SUMMARY:Tiny Bundles
DESCRIPTION:Wednesdays are reserved for our Tiny Bundles program\, which is specifically designed for pregnant mothers and families with babies from newborn to one year old (12 months). Pregnancy and a baby’s first year are critically important for healthy development. Proper nutrition and support help lay a strong foundation for the rest of their lives.
URL:https://surreyfoodbank.org/event/tiny-bundles/2028-06-14/
END:VEVENT
BEGIN:VEVENT
DTSTART;TZID=America/Vancouver:20280614T100000
DTEND;TZID=America/Vancouver:20280614T123000
DTSTAMP:20260423T072749
CREATED:20260206T235159Z
LAST-MODIFIED:20260207T000202Z
UID:10259311-1844589600-1844598600@surreyfoodbank.org
SUMMARY:Guildford - Depot
DESCRIPTION:The Surrey Food Bank distributes food in Guildford/Whalley every 2nd Wednesday from 10:00 AM to 12:00 PM at Cedar Grove Baptist Church.Location10330 144 St\, Surrey
URL:https://surreyfoodbank.org/event/guildford-depot/2028-06-14/
END:VEVENT
BEGIN:VEVENT
DTSTART;TZID=America/Vancouver:20280620T100000
DTEND;TZID=America/Vancouver:20280620T120000
DTSTAMP:20260423T072749
CREATED:20260129T000359Z
LAST-MODIFIED:20260130T050439Z
UID:10258789-1845108000-1845115200@surreyfoodbank.org
SUMMARY:North Delta - Depot
DESCRIPTION:The Surrey Food Bank distributes food in North Delta every 2nd Tuesday from 10:00 AM – 12:00 PM at the Northside Community Church. \n\n\n\nLocation\n11300 84 Avenue\, Delta
URL:https://surreyfoodbank.org/event/north-delta/2028-06-20/
END:VEVENT
BEGIN:VEVENT
DTSTART;TZID=America/Vancouver:20280621T090000
DTEND;TZID=America/Vancouver:20280621T130000
DTSTAMP:20260423T072749
CREATED:20260207T000058Z
LAST-MODIFIED:20260209T213113Z
UID:10259635-1845190800-1845205200@surreyfoodbank.org
SUMMARY:Tiny Bundles
DESCRIPTION:Wednesdays are reserved for our Tiny Bundles program\, which is specifically designed for pregnant mothers and families with babies from newborn to one year old (12 months). Pregnancy and a baby’s first year are critically important for healthy development. Proper nutrition and support help lay a strong foundation for the rest of their lives.
URL:https://surreyfoodbank.org/event/tiny-bundles/2028-06-21/
END:VEVENT
BEGIN:VEVENT
DTSTART;TZID=America/Vancouver:20280626T090000
DTEND;TZID=America/Vancouver:20280626T130000
DTSTAMP:20260423T072749
CREATED:20260206T235906Z
LAST-MODIFIED:20260210T131927Z
UID:10259443-1845622800-1845637200@surreyfoodbank.org
SUMMARY:Seniors Day
DESCRIPTION:Seniors ages 65+ have a dedicated distribution time to collect their food in a respectful and non-rushed environment. We offer a suitable choice of nutritious foods\, such as high-protein and low-sodium options\, to encourage the best possible nutrition.Seniors are welcome on alternate Mondays from 9:00 AM to 1:00 PM.
URL:https://surreyfoodbank.org/event/seniors-day/2028-06-26/
END:VEVENT
BEGIN:VEVENT
DTSTART;TZID=America/Vancouver:20280627T100000
DTEND;TZID=America/Vancouver:20280627T120000
DTSTAMP:20260423T072749
CREATED:20260206T231611Z
LAST-MODIFIED:20260210T130444Z
UID:10259181-1845712800-1845720000@surreyfoodbank.org
SUMMARY:Cloverdale - Depot
DESCRIPTION:The Surrey Food Bank distributes food in Cloverdale every second Tuesday from 10:00 AM to 12:00 PM at Hillside Church. \n\n\n\nLocation \n\n\n\n5950 179 Street\, Surrey
URL:https://surreyfoodbank.org/event/cloverdale-depot/2028-06-27/
END:VEVENT
BEGIN:VEVENT
DTSTART;TZID=America/Vancouver:20280628T090000
DTEND;TZID=America/Vancouver:20280628T130000
DTSTAMP:20260423T072749
CREATED:20260207T000058Z
LAST-MODIFIED:20260209T213113Z
UID:10259636-1845795600-1845810000@surreyfoodbank.org
SUMMARY:Tiny Bundles
DESCRIPTION:Wednesdays are reserved for our Tiny Bundles program\, which is specifically designed for pregnant mothers and families with babies from newborn to one year old (12 months). Pregnancy and a baby’s first year are critically important for healthy development. Proper nutrition and support help lay a strong foundation for the rest of their lives.
URL:https://surreyfoodbank.org/event/tiny-bundles/2028-06-28/
END:VEVENT
BEGIN:VEVENT
DTSTART;TZID=America/Vancouver:20280628T100000
DTEND;TZID=America/Vancouver:20280628T123000
DTSTAMP:20260423T072749
CREATED:20260206T235159Z
LAST-MODIFIED:20260207T000202Z
UID:10259312-1845799200-1845808200@surreyfoodbank.org
SUMMARY:Guildford - Depot
DESCRIPTION:The Surrey Food Bank distributes food in Guildford/Whalley every 2nd Wednesday from 10:00 AM to 12:00 PM at Cedar Grove Baptist Church.Location10330 144 St\, Surrey
URL:https://surreyfoodbank.org/event/guildford-depot/2028-06-28/
END:VEVENT
BEGIN:VEVENT
DTSTART;TZID=America/Vancouver:20280704T100000
DTEND;TZID=America/Vancouver:20280704T120000
DTSTAMP:20260423T072749
CREATED:20260129T000359Z
LAST-MODIFIED:20260130T050439Z
UID:10258790-1846317600-1846324800@surreyfoodbank.org
SUMMARY:North Delta - Depot
DESCRIPTION:The Surrey Food Bank distributes food in North Delta every 2nd Tuesday from 10:00 AM – 12:00 PM at the Northside Community Church. \n\n\n\nLocation\n11300 84 Avenue\, Delta
URL:https://surreyfoodbank.org/event/north-delta/2028-07-04/
END:VEVENT
BEGIN:VEVENT
DTSTART;TZID=America/Vancouver:20280705T090000
DTEND;TZID=America/Vancouver:20280705T130000
DTSTAMP:20260423T072749
CREATED:20260207T000058Z
LAST-MODIFIED:20260209T213113Z
UID:10259637-1846400400-1846414800@surreyfoodbank.org
SUMMARY:Tiny Bundles
DESCRIPTION:Wednesdays are reserved for our Tiny Bundles program\, which is specifically designed for pregnant mothers and families with babies from newborn to one year old (12 months). Pregnancy and a baby’s first year are critically important for healthy development. Proper nutrition and support help lay a strong foundation for the rest of their lives.
URL:https://surreyfoodbank.org/event/tiny-bundles/2028-07-05/
END:VEVENT
BEGIN:VEVENT
DTSTART;TZID=America/Vancouver:20280710T090000
DTEND;TZID=America/Vancouver:20280710T130000
DTSTAMP:20260423T072749
CREATED:20260206T235906Z
LAST-MODIFIED:20260210T131927Z
UID:10259444-1846832400-1846846800@surreyfoodbank.org
SUMMARY:Seniors Day
DESCRIPTION:Seniors ages 65+ have a dedicated distribution time to collect their food in a respectful and non-rushed environment. We offer a suitable choice of nutritious foods\, such as high-protein and low-sodium options\, to encourage the best possible nutrition.Seniors are welcome on alternate Mondays from 9:00 AM to 1:00 PM.
URL:https://surreyfoodbank.org/event/seniors-day/2028-07-10/
END:VEVENT
BEGIN:VEVENT
DTSTART;TZID=America/Vancouver:20280711T100000
DTEND;TZID=America/Vancouver:20280711T120000
DTSTAMP:20260423T072749
CREATED:20260206T231611Z
LAST-MODIFIED:20260210T130444Z
UID:10259182-1846922400-1846929600@surreyfoodbank.org
SUMMARY:Cloverdale - Depot
DESCRIPTION:The Surrey Food Bank distributes food in Cloverdale every second Tuesday from 10:00 AM to 12:00 PM at Hillside Church. \n\n\n\nLocation \n\n\n\n5950 179 Street\, Surrey
URL:https://surreyfoodbank.org/event/cloverdale-depot/2028-07-11/
END:VEVENT
BEGIN:VEVENT
DTSTART;TZID=America/Vancouver:20280712T090000
DTEND;TZID=America/Vancouver:20280712T130000
DTSTAMP:20260423T072749
CREATED:20260207T000058Z
LAST-MODIFIED:20260209T213113Z
UID:10259638-1847005200-1847019600@surreyfoodbank.org
SUMMARY:Tiny Bundles
DESCRIPTION:Wednesdays are reserved for our Tiny Bundles program\, which is specifically designed for pregnant mothers and families with babies from newborn to one year old (12 months). Pregnancy and a baby’s first year are critically important for healthy development. Proper nutrition and support help lay a strong foundation for the rest of their lives.
URL:https://surreyfoodbank.org/event/tiny-bundles/2028-07-12/
END:VEVENT
BEGIN:VEVENT
DTSTART;TZID=America/Vancouver:20280712T100000
DTEND;TZID=America/Vancouver:20280712T123000
DTSTAMP:20260423T072749
CREATED:20260206T235159Z
LAST-MODIFIED:20260207T000202Z
UID:10259313-1847008800-1847017800@surreyfoodbank.org
SUMMARY:Guildford - Depot
DESCRIPTION:The Surrey Food Bank distributes food in Guildford/Whalley every 2nd Wednesday from 10:00 AM to 12:00 PM at Cedar Grove Baptist Church.Location10330 144 St\, Surrey
URL:https://surreyfoodbank.org/event/guildford-depot/2028-07-12/
END:VEVENT
BEGIN:VEVENT
DTSTART;TZID=America/Vancouver:20280718T100000
DTEND;TZID=America/Vancouver:20280718T120000
DTSTAMP:20260423T072749
CREATED:20260129T000359Z
LAST-MODIFIED:20260130T050439Z
UID:10258791-1847527200-1847534400@surreyfoodbank.org
SUMMARY:North Delta - Depot
DESCRIPTION:The Surrey Food Bank distributes food in North Delta every 2nd Tuesday from 10:00 AM – 12:00 PM at the Northside Community Church. \n\n\n\nLocation\n11300 84 Avenue\, Delta
URL:https://surreyfoodbank.org/event/north-delta/2028-07-18/
END:VEVENT
BEGIN:VEVENT
DTSTART;TZID=America/Vancouver:20280719T090000
DTEND;TZID=America/Vancouver:20280719T130000
DTSTAMP:20260423T072749
CREATED:20260207T000058Z
LAST-MODIFIED:20260209T213113Z
UID:10259639-1847610000-1847624400@surreyfoodbank.org
SUMMARY:Tiny Bundles
DESCRIPTION:Wednesdays are reserved for our Tiny Bundles program\, which is specifically designed for pregnant mothers and families with babies from newborn to one year old (12 months). Pregnancy and a baby’s first year are critically important for healthy development. Proper nutrition and support help lay a strong foundation for the rest of their lives.
URL:https://surreyfoodbank.org/event/tiny-bundles/2028-07-19/
END:VEVENT
BEGIN:VEVENT
DTSTART;TZID=America/Vancouver:20280724T090000
DTEND;TZID=America/Vancouver:20280724T130000
DTSTAMP:20260423T072749
CREATED:20260206T235906Z
LAST-MODIFIED:20260210T131927Z
UID:10259445-1848042000-1848056400@surreyfoodbank.org
SUMMARY:Seniors Day
DESCRIPTION:Seniors ages 65+ have a dedicated distribution time to collect their food in a respectful and non-rushed environment. We offer a suitable choice of nutritious foods\, such as high-protein and low-sodium options\, to encourage the best possible nutrition.Seniors are welcome on alternate Mondays from 9:00 AM to 1:00 PM.
URL:https://surreyfoodbank.org/event/seniors-day/2028-07-24/
END:VEVENT
BEGIN:VEVENT
DTSTART;TZID=America/Vancouver:20280725T100000
DTEND;TZID=America/Vancouver:20280725T120000
DTSTAMP:20260423T072749
CREATED:20260206T231611Z
LAST-MODIFIED:20260210T130444Z
UID:10259183-1848132000-1848139200@surreyfoodbank.org
SUMMARY:Cloverdale - Depot
DESCRIPTION:The Surrey Food Bank distributes food in Cloverdale every second Tuesday from 10:00 AM to 12:00 PM at Hillside Church. \n\n\n\nLocation \n\n\n\n5950 179 Street\, Surrey
URL:https://surreyfoodbank.org/event/cloverdale-depot/2028-07-25/
END:VEVENT
BEGIN:VEVENT
DTSTART;TZID=America/Vancouver:20280726T090000
DTEND;TZID=America/Vancouver:20280726T130000
DTSTAMP:20260423T072749
CREATED:20260207T000058Z
LAST-MODIFIED:20260209T213113Z
UID:10259640-1848214800-1848229200@surreyfoodbank.org
SUMMARY:Tiny Bundles
DESCRIPTION:Wednesdays are reserved for our Tiny Bundles program\, which is specifically designed for pregnant mothers and families with babies from newborn to one year old (12 months). Pregnancy and a baby’s first year are critically important for healthy development. Proper nutrition and support help lay a strong foundation for the rest of their lives.
URL:https://surreyfoodbank.org/event/tiny-bundles/2028-07-26/
END:VEVENT
BEGIN:VEVENT
DTSTART;TZID=America/Vancouver:20280726T100000
DTEND;TZID=America/Vancouver:20280726T123000
DTSTAMP:20260423T072749
CREATED:20260206T235159Z
LAST-MODIFIED:20260207T000202Z
UID:10259314-1848218400-1848227400@surreyfoodbank.org
SUMMARY:Guildford - Depot
DESCRIPTION:The Surrey Food Bank distributes food in Guildford/Whalley every 2nd Wednesday from 10:00 AM to 12:00 PM at Cedar Grove Baptist Church.Location10330 144 St\, Surrey
URL:https://surreyfoodbank.org/event/guildford-depot/2028-07-26/
END:VEVENT
BEGIN:VEVENT
DTSTART;TZID=America/Vancouver:20280801T100000
DTEND;TZID=America/Vancouver:20280801T120000
DTSTAMP:20260423T072749
CREATED:20260129T000359Z
LAST-MODIFIED:20260130T050439Z
UID:10258792-1848736800-1848744000@surreyfoodbank.org
SUMMARY:North Delta - Depot
DESCRIPTION:The Surrey Food Bank distributes food in North Delta every 2nd Tuesday from 10:00 AM – 12:00 PM at the Northside Community Church. \n\n\n\nLocation\n11300 84 Avenue\, Delta
URL:https://surreyfoodbank.org/event/north-delta/2028-08-01/
END:VEVENT
BEGIN:VEVENT
DTSTART;TZID=America/Vancouver:20280802T090000
DTEND;TZID=America/Vancouver:20280802T130000
DTSTAMP:20260423T072749
CREATED:20260207T000058Z
LAST-MODIFIED:20260209T213113Z
UID:10259641-1848819600-1848834000@surreyfoodbank.org
SUMMARY:Tiny Bundles
DESCRIPTION:Wednesdays are reserved for our Tiny Bundles program\, which is specifically designed for pregnant mothers and families with babies from newborn to one year old (12 months). Pregnancy and a baby’s first year are critically important for healthy development. Proper nutrition and support help lay a strong foundation for the rest of their lives.
URL:https://surreyfoodbank.org/event/tiny-bundles/2028-08-02/
END:VEVENT
BEGIN:VEVENT
DTSTART;TZID=America/Vancouver:20280807T090000
DTEND;TZID=America/Vancouver:20280807T130000
DTSTAMP:20260423T072749
CREATED:20260206T235906Z
LAST-MODIFIED:20260210T131927Z
UID:10259446-1849251600-1849266000@surreyfoodbank.org
SUMMARY:Seniors Day
DESCRIPTION:Seniors ages 65+ have a dedicated distribution time to collect their food in a respectful and non-rushed environment. We offer a suitable choice of nutritious foods\, such as high-protein and low-sodium options\, to encourage the best possible nutrition.Seniors are welcome on alternate Mondays from 9:00 AM to 1:00 PM.
URL:https://surreyfoodbank.org/event/seniors-day/2028-08-07/
END:VEVENT
BEGIN:VEVENT
DTSTART;TZID=America/Vancouver:20280808T100000
DTEND;TZID=America/Vancouver:20280808T120000
DTSTAMP:20260423T072749
CREATED:20260206T231611Z
LAST-MODIFIED:20260210T130444Z
UID:10259184-1849341600-1849348800@surreyfoodbank.org
SUMMARY:Cloverdale - Depot
DESCRIPTION:The Surrey Food Bank distributes food in Cloverdale every second Tuesday from 10:00 AM to 12:00 PM at Hillside Church. \n\n\n\nLocation \n\n\n\n5950 179 Street\, Surrey
URL:https://surreyfoodbank.org/event/cloverdale-depot/2028-08-08/
END:VEVENT
BEGIN:VEVENT
DTSTART;TZID=America/Vancouver:20280809T090000
DTEND;TZID=America/Vancouver:20280809T130000
DTSTAMP:20260423T072749
CREATED:20260207T000058Z
LAST-MODIFIED:20260209T213113Z
UID:10259642-1849424400-1849438800@surreyfoodbank.org
SUMMARY:Tiny Bundles
DESCRIPTION:Wednesdays are reserved for our Tiny Bundles program\, which is specifically designed for pregnant mothers and families with babies from newborn to one year old (12 months). Pregnancy and a baby’s first year are critically important for healthy development. Proper nutrition and support help lay a strong foundation for the rest of their lives.
URL:https://surreyfoodbank.org/event/tiny-bundles/2028-08-09/
END:VEVENT
END:VCALENDAR